BEGIN:VCALENDAR
VERSION:2.0
PRODID:-//eventon.com NONSGML v1.0//EN
CALSCALE:GREGORIAN
METHOD:PUBLISH
BEGIN:VEVENT
UID:69e6f0b8225f7
DTSTAMP:20260421T033624Z
DTSTART:20260421
DTEND:20260422
LOCATION:
SUMMARY:Daily Workshops - April
DESCRIPTION:[vc_row][vc_column][vc_column_text css=””]Join us i
 n DISCOVERY Lab for our daily workshops! [/vc_column_text][/vc_column][/vc_
 row]\nhttps://discoverykidslv.org/event-calendar/daily-workshops/
URL:https://discoverykidslv.org/event-calendar/daily-workshops/
END:VEVENT
END:VCALENDAR